BEGIN:VCALENDAR
VERSION:2.0
PRODID:-//DIGITAL FACTORY//EVENTS MAKER V1.6.14//EN
CALSCALE:GREGORIAN
BEGIN:VEVENT
DTEND:20250802
UID:69e7329185134
DTSTAMP:20260421T081721Z
CATEGORIES:Tournament
LOCATION:Sheldon Golf &amp; CC 3040 Nest Ave, Sheldon, IA, 51201
DESCRIPTION:Saturday August 2nd - Member Club Tournament
URL;VALUE=URI:https://sheldongolf.com/events/event/august-5th-member-club-championship/
SUMMARY:Member Club Tournament
DTSTART:20250802
END:VEVENT
END:VCALENDAR
